BEGIN:VCALENDAR
VERSION:2.0
PRODID:-//Northeast Kansas City Chamber of Commerce - ECPv6.15.20//NONSGML v1.0//EN
CALSCALE:GREGORIAN
METHOD:PUBLISH
X-WR-CALNAME:Northeast Kansas City Chamber of Commerce
X-ORIGINAL-URL:https://nekcchamber.com
X-WR-CALDESC:Events for Northeast Kansas City Chamber of Commerce
REFRESH-INTERVAL;VALUE=DURATION:PT1H
X-Robots-Tag:noindex
X-PUBLISHED-TTL:PT1H
BEGIN:VTIMEZONE
TZID:America/Chicago
BEGIN:DAYLIGHT
TZOFFSETFROM:-0600
TZOFFSETTO:-0500
TZNAME:CDT
DTSTART:20240310T080000
END:DAYLIGHT
BEGIN:STANDARD
TZOFFSETFROM:-0500
TZOFFSETTO:-0600
TZNAME:CST
DTSTART:20241103T070000
END:STANDARD
BEGIN:DAYLIGHT
TZOFFSETFROM:-0600
TZOFFSETTO:-0500
TZNAME:CDT
DTSTART:20250309T080000
END:DAYLIGHT
BEGIN:STANDARD
TZOFFSETFROM:-0500
TZOFFSETTO:-0600
TZNAME:CST
DTSTART:20251102T070000
END:STANDARD
BEGIN:DAYLIGHT
TZOFFSETFROM:-0600
TZOFFSETTO:-0500
TZNAME:CDT
DTSTART:20260308T080000
END:DAYLIGHT
BEGIN:STANDARD
TZOFFSETFROM:-0500
TZOFFSETTO:-0600
TZNAME:CST
DTSTART:20261101T070000
END:STANDARD
END:VTIMEZONE
BEGIN:VEVENT
DTSTART;TZID=America/Chicago:20251120T113000
DTEND;TZID=America/Chicago:20251120T130000
DTSTAMP:20260420T194759
CREATED:20250614T073348Z
LAST-MODIFIED:20251120T074819Z
UID:10000403-1763638200-1763643600@nekcchamber.com
SUMMARY:Safety & Security Monthly Meeting\, Nov.  2025
DESCRIPTION:Area NE Businesses\, KCPD and  CID staff Meet on the Third Thursdays.  Open discussion on issues in the area.
URL:https://nekcchamber.com/event/safety-security-monthly-meeting-nov-2025/
LOCATION:2657 Independence Ave\, 2657 Independence Avenue\, Kansas City\, MO\, 64124\, United States
ATTACH;FMTTYPE=image/jpeg:https://nekcchamber.com/wp-content/uploads/2025/04/19d834cce816e2489860c85da0a227fd-ZonQ4L.tmp_.jpg
GEO:39.1057944;-94.5491057
X-APPLE-STRUCTURED-LOCATION;VALUE=URI;X-ADDRESS=2657 Independence Ave 2657 Independence Avenue Kansas City MO 64124 United States;X-APPLE-RADIUS=500;X-TITLE=2657 Independence Avenue:geo:-94.5491057,39.1057944
END:VEVENT
BEGIN:VEVENT
DTSTART;TZID=America/Chicago:20251120T113000
DTEND;TZID=America/Chicago:20251120T130000
DTSTAMP:20260420T194759
CREATED:20250506T163932Z
LAST-MODIFIED:20250506T165327Z
UID:10000337-1763638200-1763643600@nekcchamber.com
SUMMARY:Safety & Security Meeting
DESCRIPTION:Join the community\, both businesses and residents\, to discuss  safety & security issues with KCPD\, Prosecuting Attorney\, and private security – your concerns
URL:https://nekcchamber.com/event/safety-security-meeting/2025-11-20/
LOCATION:2657 Independence Ave\, Kansas City\, MO 64124-9998\, United States\, 2657 Independence Ave\, Kansas City\, MO\, 64124\, United States
GEO:39.1057944;-94.5491057
X-APPLE-STRUCTURED-LOCATION;VALUE=URI;X-ADDRESS=2657 Independence Ave Kansas City MO 64124-9998 United States 2657 Independence Ave Kansas City MO 64124 United States;X-APPLE-RADIUS=500;X-TITLE=2657 Independence Ave:geo:-94.5491057,39.1057944
END:VEVENT
BEGIN:VEVENT
DTSTART;TZID=America/Chicago:20251113T100000
DTEND;TZID=America/Chicago:20251113T110000
DTSTAMP:20260420T194759
CREATED:20250506T213346Z
LAST-MODIFIED:20251113T074813Z
UID:10000395-1763028000-1763031600@nekcchamber.com
SUMMARY:Coffee Culture and Conversation\, 11-13-25
DESCRIPTION:It’s about YOU and Builders of the NE  NEWS!\n\n\nIt’s About YOU – and Your NEWS! \nMeet the Team Behind The Northeast News & Learn How You Can Help \nWhat’s Brewing? \nMeeting at the EGG (Economic Growth Gallery) next door to the Chamber office. \nJoin neighbors\, local business owners\, and community leaders for our monthly Coffee\, Culture & Conversation — a relaxed\, friendly hour of networking\, news\, and community connection. \nAt this month’s event\, you’ll: \n\nHear what’s happening at The Northeast News / HNE Media — your nonprofit community newsroom.\nLearn how your support keeps local journalism alive — and how every donation made through December 31 will be matched thanks to NewsMatch\, doubling your impact!\nVisit our newsroom and One Kansas City Community Radio station.\nShare your own neighborhood or business news — bring your flyers and business cards for networking and a prize drawing!\n\nCoffee and sweets are on the house! \nRSVP today for your free ticket
URL:https://nekcchamber.com/event/coffee-culture-and-conversation-11-13-25/
LOCATION:2659 Independence Ave\, 2659 Independence Avenue\, Kansas City\, MO\, 64124\, United States
ATTACH;FMTTYPE=image/jpeg:https://nekcchamber.com/wp-content/uploads/2025/10/4a1e20c030633c18d1031b53284c1141-8YfzgY.tmp_.jpg
GEO:39.105886;-94.5488729
X-APPLE-STRUCTURED-LOCATION;VALUE=URI;X-ADDRESS=2659 Independence Ave 2659 Independence Avenue Kansas City MO 64124 United States;X-APPLE-RADIUS=500;X-TITLE=2659 Independence Avenue:geo:-94.5488729,39.105886
END:VEVENT
BEGIN:VEVENT
DTSTART;TZID=America/Chicago:20251028T114500
DTEND;TZID=America/Chicago:20251028T130000
DTSTAMP:20260420T194759
CREATED:20250505T203629Z
LAST-MODIFIED:20251028T163338Z
UID:10000207-1761651900-1761656400@nekcchamber.com
SUMMARY:10-28-25 Tasty Topic Talk\, Mike Elder talks Cake and Art
DESCRIPTION:Here in the Northeast Kansas City\, you may have seen a mural on the NW corner of the “Truck Eating Bridge”. He is more than a mural painter.\n\n\nMike Elder \nHere in the Northeast Kansas City\, you may have seen a mural on the NW corner of the “Truck Eating Bridge”. He is more than a mural painter. \nMike Elder is a world renowned cake creator\, three time world record holder\, sixteen time TV chef\, cake maker for the stars and now for you! \nMikes creations have been sought out by well-known public figures such as Gordon Ramsay\, George Lucas\, Elton John\, Godsmack and Tech N9ne as well as NASCAR\, INDYCAR\, the NFL\, and Major League Baseball. \nMike brings world-class quality and skill to his specialty cakes and is now ready to create something amazing for your special event. \nhttps://blacksheepcakes.com/ Mikeelderscakes@gmail.com 816-682-1872 \nHe will be at the Chamber Luncheon to “Decorate a Cake” and talk. \nSchedule/Agenda \n\n11:45 ARRIVE AT THE CHAMBER COMMUNITY ROOM\n12:00 TAKE A SEAT\, INTRODUCTIONS – FILL YOUR PLATES\n12:15 INTRODUCE GUEST – PROGRAM STARTS\n12:45 QUESTIONS\n1:00 CONCLUSION / NETWORKING\n\nCatering Restaurant:  Las Tres Palmas.   Calzones\, garden salad\, Italian cookies \, coffee and tea.  \nRSVP for your Lunch and Program on \nEventbrite $25 \nSeating is available for the program with NO Lunch. Drinks on the House. \nJoin Zoom Meetinghttps://us02web.zoom.us/j/84664788549?pwd=CQEqVXScJfdCGu5ent6haVBfu3O6iN.1 \nMeeting ID: 846 6478 8549Passcode: 855024
URL:https://nekcchamber.com/event/10-18-25-tasty-topic-talk/
LOCATION:NEKC Chamber of Commerce\, 2657 Independence Ave\, Kansas City\, MO\, 64124\, United States
ATTACH;FMTTYPE=image/jpeg:https://nekcchamber.com/wp-content/uploads/2025/09/e0ef915c2bb0338cc1835ef1b2509d38-X15O8i.tmp_.jpg
GEO:39.1057944;-94.5491057
X-APPLE-STRUCTURED-LOCATION;VALUE=URI;X-ADDRESS=NEKC Chamber of Commerce 2657 Independence Ave Kansas City MO 64124 United States;X-APPLE-RADIUS=500;X-TITLE=2657 Independence Ave:geo:-94.5491057,39.1057944
END:VEVENT
BEGIN:VEVENT
DTSTART;TZID=America/Chicago:20251024T120000
DTEND;TZID=America/Chicago:20251024T160000
DTSTAMP:20260420T194759
CREATED:20251019T153316Z
LAST-MODIFIED:20251024T184926Z
UID:10000419-1761307200-1761321600@nekcchamber.com
SUMMARY:Rescheduled:  Community Development Office Hours with the EDC Robert Long
DESCRIPTION:Economic Development Corporation of  KC shares Community Development information.\n\n\nBusiness and Property Owners are invited \nEDCKC shares Community Development information. \nRobert Long will discuss a wide range of resources available to small businesses and property owners through the Economic Development Corporation and affiliated Agencies. \nHe will describe redevelopment incentives available in portions of Midtown and the Northeast .  Time will also be available for your questions.
URL:https://nekcchamber.com/event/rescheduled-community-development-office-hours-with-the-edc-robert-long/
LOCATION:NEKC Chamber of Commerce\, 2657 Independence Ave\, Kansas City\, MO\, 64124\, United States
ATTACH;FMTTYPE=image/jpeg:https://nekcchamber.com/wp-content/uploads/2025/06/3ece4f55c2d4da631d4ad35703a2ed83-4h5co8.tmp_.jpg
GEO:39.1057944;-94.5491057
X-APPLE-STRUCTURED-LOCATION;VALUE=URI;X-ADDRESS=NEKC Chamber of Commerce 2657 Independence Ave Kansas City MO 64124 United States;X-APPLE-RADIUS=500;X-TITLE=2657 Independence Ave:geo:-94.5491057,39.1057944
END:VEVENT
END:VCALENDAR