BEGIN:VCALENDAR
VERSION:2.0
PRODID:-//Northeast Kansas City Chamber of Commerce - ECPv6.15.20//NONSGML v1.0//EN
CALSCALE:GREGORIAN
METHOD:PUBLISH
X-WR-CALNAME:Northeast Kansas City Chamber of Commerce
X-ORIGINAL-URL:https://nekcchamber.com
X-WR-CALDESC:Events for Northeast Kansas City Chamber of Commerce
REFRESH-INTERVAL;VALUE=DURATION:PT1H
X-Robots-Tag:noindex
X-PUBLISHED-TTL:PT1H
BEGIN:VTIMEZONE
TZID:America/Chicago
BEGIN:DAYLIGHT
TZOFFSETFROM:-0600
TZOFFSETTO:-0500
TZNAME:CDT
DTSTART:20240310T080000
END:DAYLIGHT
BEGIN:STANDARD
TZOFFSETFROM:-0500
TZOFFSETTO:-0600
TZNAME:CST
DTSTART:20241103T070000
END:STANDARD
BEGIN:DAYLIGHT
TZOFFSETFROM:-0600
TZOFFSETTO:-0500
TZNAME:CDT
DTSTART:20250309T080000
END:DAYLIGHT
BEGIN:STANDARD
TZOFFSETFROM:-0500
TZOFFSETTO:-0600
TZNAME:CST
DTSTART:20251102T070000
END:STANDARD
BEGIN:DAYLIGHT
TZOFFSETFROM:-0600
TZOFFSETTO:-0500
TZNAME:CDT
DTSTART:20260308T080000
END:DAYLIGHT
BEGIN:STANDARD
TZOFFSETFROM:-0500
TZOFFSETTO:-0600
TZNAME:CST
DTSTART:20261101T070000
END:STANDARD
BEGIN:DAYLIGHT
TZOFFSETFROM:-0600
TZOFFSETTO:-0500
TZNAME:CDT
DTSTART:20270314T080000
END:DAYLIGHT
BEGIN:STANDARD
TZOFFSETFROM:-0500
TZOFFSETTO:-0600
TZNAME:CST
DTSTART:20271107T070000
END:STANDARD
END:VTIMEZONE
BEGIN:VEVENT
DTSTART;TZID=America/Chicago:20260319T113000
DTEND;TZID=America/Chicago:20260319T130000
DTSTAMP:20260421T043636
CREATED:20260304T233444Z
LAST-MODIFIED:20260319T153325Z
UID:10000448-1773919800-1773925200@nekcchamber.com
SUMMARY:Safety & Security Monthly Meeting\,March 19.  2026
DESCRIPTION:Area NE Businesses\, KCPD and  CID staff Meet on the Third Thursdays.  Open discussion on issues in the area.\n\n\nArea NE Businesses\, KCPD and  CID staff Meet on the Third Thursdays.  Open discussion on issues in the area.
URL:https://nekcchamber.com/event/safety-security-monthly-meetingmarch-19-2026/
LOCATION:2657 Independence Ave\, 2657 Independence Avenue\, Kansas City\, MO\, 64124\, United States
ATTACH;FMTTYPE=image/jpeg:https://nekcchamber.com/wp-content/uploads/2025/04/19d834cce816e2489860c85da0a227fd-ZonQ4L.tmp_.jpg
GEO:39.1057944;-94.5491057
X-APPLE-STRUCTURED-LOCATION;VALUE=URI;X-ADDRESS=2657 Independence Ave 2657 Independence Avenue Kansas City MO 64124 United States;X-APPLE-RADIUS=500;X-TITLE=2657 Independence Avenue:geo:-94.5491057,39.1057944
END:VEVENT
BEGIN:VEVENT
DTSTART;TZID=America/Chicago:20260318T180000
DTEND;TZID=America/Chicago:20260318T190000
DTSTAMP:20260421T043636
CREATED:20260314T134852Z
LAST-MODIFIED:20260318T161816Z
UID:10000450-1773856800-1773860400@nekcchamber.com
SUMMARY:Community Update and Listening Sessiion
DESCRIPTION:The New KC Psychiatric Hospital  hosted by State Rep Wick Thomas\n\n\nState Representative Wick Thomas has announced a community \nupdate and listening session to provide the latest details and gather input on the new Kansas City Psychiatric Hospital project\, planned for Belvidere Park. \nThe hospital is a partnership between the State of Missouri\, University Health\, and the City of Kansas City to offer inpatient psychiatric care for at least 200 people experiencing a mental health crisis. It is expected to open in 2029 and will help ease pressure on emergency rooms and local jails while providing better care closer to home. \nNearly $300 million in state funding was approved to help make the project possible. Attendees will hear short updates from: \n· State Rep. Wick Thomas \n· Sharon Freese (University Health) \n· Megan Roedel and Dale Cassmeyer (Missouri Department of Mental Health) \n· Shayne Martin (Office of Administration) \n \n“It is vital that the community is heard and has a seat at the table in the development of this mental health facility\,” stated Thomas\, D-Kansas City. “This hospital is a real opportunity to improve mental health care in our area. I want Northeast Kansas City neighbors to come share their thoughts and help shape the project.” \n \nEvent Details: \nDate: Wednesday\, March 18\, 2026 \nTime: 6:00 p.m. – 7:00 p.m. \nLocation: Northeast KC Chamber of Commerce \n2657 Independence Ave\, Kansas City\, MO 64124 \nEveryone is welcome; no RSVP needed. \nFor more details and project updates\, visit https://kchospitalbuild.mo.gov/
URL:https://nekcchamber.com/event/community-update-and-listening-sessiion/
LOCATION:2657 Independence Ave\, 2657 Independence Avenue\, Kansas City\, MO\, 64124\, United States
ATTACH;FMTTYPE=image/jpeg:https://nekcchamber.com/wp-content/uploads/2026/03/a5372a33b534f1966968313c97f7b8df-jrOOLT.tmp_.jpg
GEO:39.1057944;-94.5491057
X-APPLE-STRUCTURED-LOCATION;VALUE=URI;X-ADDRESS=2657 Independence Ave 2657 Independence Avenue Kansas City MO 64124 United States;X-APPLE-RADIUS=500;X-TITLE=2657 Independence Avenue:geo:-94.5491057,39.1057944
END:VEVENT
BEGIN:VEVENT
DTSTART;TZID=America/Chicago:20260219T113000
DTEND;TZID=America/Chicago:20260219T130000
DTSTAMP:20260421T043636
CREATED:20260203T214840Z
LAST-MODIFIED:20260219T153423Z
UID:10000441-1771500600-1771506000@nekcchamber.com
SUMMARY:Safety & Security Monthly Meeting\, Feb 19.  2026
DESCRIPTION:Area NE Businesses\, KCPD and  CID staff Meet on the Third Thursdays.  Open discussion on issues in the area.
URL:https://nekcchamber.com/event/safety-security-monthly-meeting-feb-19-2026/
LOCATION:2657 Independence Ave\, 2657 Independence Avenue\, Kansas City\, MO\, 64124\, United States
ATTACH;FMTTYPE=image/jpeg:https://nekcchamber.com/wp-content/uploads/2025/04/19d834cce816e2489860c85da0a227fd-ZonQ4L.tmp_.jpg
GEO:39.1057944;-94.5491057
X-APPLE-STRUCTURED-LOCATION;VALUE=URI;X-ADDRESS=2657 Independence Ave 2657 Independence Avenue Kansas City MO 64124 United States;X-APPLE-RADIUS=500;X-TITLE=2657 Independence Avenue:geo:-94.5491057,39.1057944
END:VEVENT
BEGIN:VEVENT
DTSTART;TZID=America/Chicago:20260115T113000
DTEND;TZID=America/Chicago:20260115T130000
DTSTAMP:20260421T043636
CREATED:20251219T100318Z
LAST-MODIFIED:20260114T220132Z
UID:10000427-1768476600-1768482000@nekcchamber.com
SUMMARY:Safety & Security Monthly Meeting\, Jan 15\, 2026
DESCRIPTION:Area NE Businesses\, KCPD and  CID staff Meet on the Third Thursdays.  Open discussion on issues in the area.
URL:https://nekcchamber.com/event/safety-security-monthly-meeting-jan-15-2026/
LOCATION:2657 Independence Ave\, 2657 Independence Avenue\, Kansas City\, MO\, 64124\, United States
ATTACH;FMTTYPE=image/jpeg:https://nekcchamber.com/wp-content/uploads/2025/04/19d834cce816e2489860c85da0a227fd-ZonQ4L.tmp_.jpg
GEO:39.1057944;-94.5491057
X-APPLE-STRUCTURED-LOCATION;VALUE=URI;X-ADDRESS=2657 Independence Ave 2657 Independence Avenue Kansas City MO 64124 United States;X-APPLE-RADIUS=500;X-TITLE=2657 Independence Avenue:geo:-94.5491057,39.1057944
END:VEVENT
BEGIN:VEVENT
DTSTART;TZID=America/Chicago:20251218T113000
DTEND;TZID=America/Chicago:20251218T130000
DTSTAMP:20260421T043636
CREATED:20250614T073349Z
LAST-MODIFIED:20251218T154810Z
UID:10000404-1766057400-1766062800@nekcchamber.com
SUMMARY:Safety & Security Monthly Meeting\, Dec.  2025
DESCRIPTION:Area NE Businesses\, KCPD and  CID staff Meet on the Third Thursdays.  Open discussion on issues in the area.
URL:https://nekcchamber.com/event/safety-security-monthly-meeting-dec-2025/
LOCATION:2657 Independence Ave\, 2657 Independence Avenue\, Kansas City\, MO\, 64124\, United States
ATTACH;FMTTYPE=image/jpeg:https://nekcchamber.com/wp-content/uploads/2025/04/19d834cce816e2489860c85da0a227fd-ZonQ4L.tmp_.jpg
GEO:39.1057944;-94.5491057
X-APPLE-STRUCTURED-LOCATION;VALUE=URI;X-ADDRESS=2657 Independence Ave 2657 Independence Avenue Kansas City MO 64124 United States;X-APPLE-RADIUS=500;X-TITLE=2657 Independence Avenue:geo:-94.5491057,39.1057944
END:VEVENT
BEGIN:VEVENT
DTSTART;TZID=America/Chicago:20251120T113000
DTEND;TZID=America/Chicago:20251120T130000
DTSTAMP:20260421T043636
CREATED:20250614T073348Z
LAST-MODIFIED:20251120T074819Z
UID:10000403-1763638200-1763643600@nekcchamber.com
SUMMARY:Safety & Security Monthly Meeting\, Nov.  2025
DESCRIPTION:Area NE Businesses\, KCPD and  CID staff Meet on the Third Thursdays.  Open discussion on issues in the area.
URL:https://nekcchamber.com/event/safety-security-monthly-meeting-nov-2025/
LOCATION:2657 Independence Ave\, 2657 Independence Avenue\, Kansas City\, MO\, 64124\, United States
ATTACH;FMTTYPE=image/jpeg:https://nekcchamber.com/wp-content/uploads/2025/04/19d834cce816e2489860c85da0a227fd-ZonQ4L.tmp_.jpg
GEO:39.1057944;-94.5491057
X-APPLE-STRUCTURED-LOCATION;VALUE=URI;X-ADDRESS=2657 Independence Ave 2657 Independence Avenue Kansas City MO 64124 United States;X-APPLE-RADIUS=500;X-TITLE=2657 Independence Avenue:geo:-94.5491057,39.1057944
END:VEVENT
END:VCALENDAR